BEGIN:VCALENDAR
VERSION:2.0
PRODID:-//ChamberMaster//Event Calendar 2.0//EN
METHOD:PUBLISH
X-PUBLISHED-TTL:P3D
REFRESH-INTERVAL:P3D
CALSCALE:GREGORIAN
BEGIN:VEVENT
DTSTART:20151212T180000Z
DTEND:20151212T223000Z
X-MICROSOFT-CDO-ALLDAYEVENT:FALSE
SUMMARY:Winter Craft Fair and Elves' Workshop
DESCRIPTION:Join West County Girl Scouts for our 3rd Annual Winter Craft Fair! There will be handmade gifts\, toys\, jewelry\, succulent gardens\, craft kits\, holiday treats\, teen crafts\, fairy crafts and much more! Kids can come make their own gifts at our many craft and activity tables. Event is open to the public and admission is free. Fun for all ages! Kids can come make ornaments\, toys\, gifts and more! Perfect way for little hands to create gifts for the holidays! \n\nFree Letters to Santa and free coloring station!
X-ALT-DESC;FMTTYPE=text/html:Join West County Girl Scouts for our 3rd Annual Winter Craft Fair! There will be handmade gifts\, toys\, jewelry\, succulent gardens\, craft kits\, holiday treats\, teen crafts\, fairy crafts and much more! Kids can come make their own gifts at our many craft and activity tables. Event is open to the public and admission is free. Fun for all ages! Kids can come make ornaments\, toys\, gifts and more! Perfect way for little hands to create gifts for the holidays! \n\nFree Letters to Santa and free coloring station!
LOCATION:Sebastopol Community Church 1000 Gravenstein Hwy North\, Sebastopol
UID:e.3189.5042932
SEQUENCE:3
DTSTAMP:20260419T142928Z
URL:https://business.sebastopol.org/events/details/winter-craft-fair-and-elves-workshop-12-12-2015-5042932
END:VEVENT

END:VCALENDAR
