BEGIN:VCALENDAR
VERSION:2.0
PRODID:-//ChamberMaster//Event Calendar 2.0//EN
METHOD:PUBLISH
X-PUBLISHED-TTL:P3D
REFRESH-INTERVAL:P3D
CALSCALE:GREGORIAN
BEGIN:VEVENT
DTSTART:20130114T000000Z
DTEND:20130114T020000Z
X-MICROSOFT-CDO-ALLDAYEVENT:FALSE
SUMMARY:Winterlude: Chamber Music Benefit
DESCRIPTION:Master musicians including Norma Brown (piano) in Brahm's Trio\, counter tenor Chris Fritzsche with Daniel Celidore (oboe)\,and  The Santa Rosa   Chamber Orchestra led by Nicholas Xenelis in   musical ode to Winter . $20 Benefits OCA!   Seasonal refreshments available\; wheelchair   accessible.www.occidentalcenterforthearts.org and 707-874-9392 for reservations.
X-ALT-DESC;FMTTYPE=text/html:Master musicians including Norma Brown (piano) in Brahm's Trio\, counter tenor Chris Fritzsche with Daniel Celidore (oboe)\,and  The Santa Rosa   Chamber Orchestra led by Nicholas Xenelis in   musical ode to Winter . $20 Benefits OCA!   Seasonal refreshments available\; wheelchair   accessible.www.occidentalcenterforthearts.org and 707-874-9392 for reservations.
LOCATION:Occidental Center for the Arts 3850 Doris Murphy Ct. Occidental (Bohemian Hwy @ Graton Rd.)
UID:e.3189.5040340
SEQUENCE:3
DTSTAMP:20260422T040637Z
URL:https://business.sebastopol.org/events/details/winterlude-chamber-music-benefit-01-13-2013-5040340
END:VEVENT

END:VCALENDAR
