BEGIN:VCALENDAR
VERSION:2.0
PRODID:-//ChamberMaster//Event Calendar 2.0//EN
METHOD:PUBLISH
X-PUBLISHED-TTL:P3D
REFRESH-INTERVAL:P3D
CALSCALE:GREGORIAN
BEGIN:VEVENT
DTSTART:20150312T013000Z
DTEND:20150312T030000Z
X-MICROSOFT-CDO-ALLDAYEVENT:FALSE
SUMMARY:Yoga class with MC Yogi
DESCRIPTION:Hostesd by the Tibetan Gallery & Studio in the Barlow\, as a part of 'The Mystical Art of Tibet' of The monks of Drepung Loseling Monastery \n\nOpening chants with Loseling monks. \nRSVP: lisa@thebarlow.net\n\nSuggested donation $20
X-ALT-DESC;FMTTYPE=text/html:Hostesd by the Tibetan Gallery & Studio in the Barlow\, as a part of 'The Mystical Art of Tibet' of The monks of Drepung Loseling Monastery \n\nOpening chants with Loseling monks. \nRSVP: lisa@thebarlow.net\n\nSuggested donation $20
LOCATION:The Barlow Event Center
UID:e.3189.5042196
SEQUENCE:3
DTSTAMP:20260420T053535Z
URL:https://business.sebastopol.org/events/details/yoga-class-with-mc-yogi-03-11-2015-5042196
END:VEVENT

END:VCALENDAR
